BEGIN:VCALENDAR
VERSION:2.0
PRODID:-//Galeria Ideal – Tango Argentino in Vienna - ECPv6.15.12.2//NONSGML v1.0//EN
CALSCALE:GREGORIAN
METHOD:PUBLISH
X-ORIGINAL-URL:https://www.galeria-ideal.at
X-WR-CALDESC:Events for Galeria Ideal – Tango Argentino in Vienna
REFRESH-INTERVAL;VALUE=DURATION:PT1H
X-Robots-Tag:noindex
X-PUBLISHED-TTL:PT1H
BEGIN:VTIMEZONE
TZID:UTC
BEGIN:STANDARD
TZOFFSETFROM:+0000
TZOFFSETTO:+0000
TZNAME:UTC
DTSTART:20250101T000000
END:STANDARD
END:VTIMEZONE
BEGIN:VEVENT
DTSTART;TZID=UTC:20260130T210000
DTEND;TZID=UTC:20260131T010000
DTSTAMP:20260421T102734
CREATED:20241216T061853Z
LAST-MODIFIED:20260204T134937Z
UID:2618-1769806800-1769821200@www.galeria-ideal.at
SUMMARY:The Friday Milonga - TJ Michi Schöner
DESCRIPTION:The famous Friday Milonga in Vienna in the infamous Galeria Ideal\, homebase of TangoTunes. \nSpacious dance hall with great floor and outstanding sound system. \n*** \nDie legendäre Freitagsmilonga in der Galeria Ideal Viena\, Wiens älteste\, traditionelle Milonga (seit 2005). \nGroße Tanzlocation mit perfektem Eichenparkett und überragendem Soundsystem\, Heimat von TangoTunes.
URL:https://www.galeria-ideal.at/event/the-friday-milonga-tj-michi-schoner-2/
LOCATION:Galeria Ideal\, Geibelgasse 14-16\, Vienna\, 1150\, Austria
CATEGORIES:Milonga
ATTACH;FMTTYPE=image/jpeg:https://www.galeria-ideal.at/wp-content/uploads/2024/12/michi-schoener.jpg
ORGANIZER;CN="TITAF":MAILTO:hello@titaf.org
END:VEVENT
BEGIN:VEVENT
DTSTART;TZID=UTC:20260220T210000
DTEND;TZID=UTC:20260221T010000
DTSTAMP:20260421T102734
CREATED:20251031T143751Z
LAST-MODIFIED:20260208T150930Z
UID:2752-1771621200-1771635600@www.galeria-ideal.at
SUMMARY:The Friday Milonga – TJ Martin Haslehner
DESCRIPTION:The famous Friday Milonga in Vienna in the infamous Galeria Ideal\, homebase of TangoTunes. \nSpacious dance hall with great floor and outstanding sound system. \n*** \nDie legendäre Freitagsmilonga in der Galeria Ideal Viena\, Wiens älteste\, traditionelle Milonga (seit 2005). \nGroße Tanzlocation mit perfektem Eichenparkett und überragendem Soundsystem\, Heimat von TangoTunes. \n@photocredits Martin Haslehner\, Don Xello
URL:https://www.galeria-ideal.at/event/the-friday-milonga-tj-martin-haslehner-2-2/
LOCATION:Galeria Ideal\, Geibelgasse 14-16\, Vienna\, 1150\, Austria
CATEGORIES:Milonga
ATTACH;FMTTYPE=image/jpeg:https://www.galeria-ideal.at/wp-content/uploads/2017/12/martin-dj.jpg
ORGANIZER;CN="TITAF":MAILTO:hello@titaf.org
END:VEVENT
BEGIN:VEVENT
DTSTART;TZID=UTC:20260220T210000
DTEND;TZID=UTC:20260221T010000
DTSTAMP:20260421T102734
CREATED:20251031T143751Z
LAST-MODIFIED:20260208T150930Z
UID:2752-1771621200-1771635600@www.galeria-ideal.at
SUMMARY:The Friday Milonga – TJ Martin Haslehner
DESCRIPTION:The famous Friday Milonga in Vienna in the infamous Galeria Ideal\, homebase of TangoTunes. \nSpacious dance hall with great floor and outstanding sound system. \n*** \nDie legendäre Freitagsmilonga in der Galeria Ideal Viena\, Wiens älteste\, traditionelle Milonga (seit 2005). \nGroße Tanzlocation mit perfektem Eichenparkett und überragendem Soundsystem\, Heimat von TangoTunes. \n@photocredits Martin Haslehner\, Don Xello
URL:https://www.galeria-ideal.at/event/the-friday-milonga-tj-martin-haslehner-2-2/
LOCATION:Galeria Ideal\, Geibelgasse 14-16\, Vienna\, 1150\, Austria
CATEGORIES:Milonga
ATTACH;FMTTYPE=image/jpeg:https://www.galeria-ideal.at/wp-content/uploads/2017/12/martin-dj.jpg
ORGANIZER;CN="TITAF":MAILTO:hello@titaf.org
END:VEVENT
BEGIN:VEVENT
DTSTART;TZID=UTC:20260417T210000
DTEND;TZID=UTC:20260418T010000
DTSTAMP:20260421T102734
CREATED:20251203T135209Z
LAST-MODIFIED:20260416T183119Z
UID:2809-1776459600-1776474000@www.galeria-ideal.at
SUMMARY:The Friday Milonga - TJ Don Xello
DESCRIPTION:The famous Friday Milonga in Vienna in the infamous Galeria Ideal\, homebase of TangoTunes. \nSpacious dance hall with great floor and outstanding sound system. \n*** \nDie legendäre Freitagsmilonga in der Galeria Ideal Viena\, Wiens älteste\, traditionelle Milonga (seit 2005). \nGroße Tanzlocation mit perfektem Eichenparkett und überragendem Soundsystem\, Heimat von TangoTunes. \n@photocredits Don Xello\, Renate Falkner
URL:https://www.galeria-ideal.at/event/the-friday-milonga/
LOCATION:Galeria Ideal\, Geibelgasse 14-16\, Vienna\, 1150\, Austria
CATEGORIES:Milonga
ATTACH;FMTTYPE=image/jpeg:https://www.galeria-ideal.at/wp-content/uploads/2019/08/victor-bansky.jpg
ORGANIZER;CN="TITAF":MAILTO:hello@titaf.org
END:VEVENT
BEGIN:VEVENT
DTSTART;TZID=UTC:20260421T193000
DTEND;TZID=UTC:20260421T220000
DTSTAMP:20260421T102734
CREATED:20251203T140306Z
LAST-MODIFIED:20260416T183202Z
UID:2822-1776799800-1776808800@www.galeria-ideal.at
SUMMARY:The Tuesday Práctica
DESCRIPTION:🎶 Dear Vienna Tango Community\, \nThe Tuesday Practica at Galeria Ideal continues! \nAlexander and Iris will be your hosts\, Alexander will be in charge of the music \nCome dance with us\, practice\, enjoy the evening\, and connect – we’re looking forward to welcoming you!
URL:https://www.galeria-ideal.at/event/2822/
LOCATION:Galeria Ideal\, Geibelgasse 14-16\, Vienna\, 1150\, Austria
CATEGORIES:Práctica
ATTACH;FMTTYPE=image/jpeg:https://www.galeria-ideal.at/wp-content/uploads/2024/05/maria-magd.jpg
ORGANIZER;CN="TITAF":MAILTO:hello@titaf.org
END:VEVENT
BEGIN:VEVENT
DTSTART;TZID=UTC:20260424T210000
DTEND;TZID=UTC:20260425T010000
DTSTAMP:20260421T102734
CREATED:20251203T135722Z
LAST-MODIFIED:20260416T183146Z
UID:2820-1777064400-1777078800@www.galeria-ideal.at
SUMMARY:The Friday Milonga - TJ Don Xello
DESCRIPTION:The famous Friday Milonga in Vienna in the infamous Galeria Ideal\, homebase of TangoTunes. \nSpacious dance hall with great floor and outstanding sound system. \n*** \nDie legendäre Freitagsmilonga in der Galeria Ideal Viena\, Wiens älteste\, traditionelle Milonga (seit 2005). \nGroße Tanzlocation mit perfektem Eichenparkett und überragendem Soundsystem\, Heimat von TangoTunes. \n@photocredits Don Xello\, Renate Falkner
URL:https://www.galeria-ideal.at/event/the-friday-milonga-tj-don-xello-6/
LOCATION:Galeria Ideal\, Geibelgasse 14-16\, Vienna\, 1150\, Austria
CATEGORIES:Milonga
ATTACH;FMTTYPE=image/jpeg:https://www.galeria-ideal.at/wp-content/uploads/2019/08/victor-bansky.jpg
ORGANIZER;CN="TITAF":MAILTO:hello@titaf.org
END:VEVENT
BEGIN:VEVENT
DTSTART;TZID=UTC:20260428T193000
DTEND;TZID=UTC:20260428T220000
DTSTAMP:20260421T102734
CREATED:20251229T065003Z
LAST-MODIFIED:20260416T183046Z
UID:2848-1777404600-1777413600@www.galeria-ideal.at
SUMMARY:The Tuesday Práctica
DESCRIPTION:🎶 Dear Vienna Tango Community\, \nThe Tuesday Practica at Galeria Ideal continues! \nAlexander and Iris will be your hosts\, Alexander will be in charge of the music \nCome dance with us\, practice\, enjoy the evening\, and connect – we’re looking forward to welcoming you! \nYoung: 5€
URL:https://www.galeria-ideal.at/event/the-tuesday-practica/
LOCATION:Galeria Ideal\, Geibelgasse 14-16\, Vienna\, 1150\, Austria
CATEGORIES:Práctica
ATTACH;FMTTYPE=image/jpeg:https://www.galeria-ideal.at/wp-content/uploads/2024/05/maria-magd.jpg
ORGANIZER;CN="TITAF":MAILTO:hello@titaf.org
END:VEVENT
BEGIN:VEVENT
DTSTART;TZID=UTC:20260501T210000
DTEND;TZID=UTC:20260502T010000
DTSTAMP:20260421T102734
CREATED:20251203T135559Z
LAST-MODIFIED:20260416T183218Z
UID:2817-1777669200-1777683600@www.galeria-ideal.at
SUMMARY:The Friday Milonga - TJ Don Xello
DESCRIPTION:The famous Friday Milonga in Vienna in the infamous Galeria Ideal\, homebase of TangoTunes. \nSpacious dance hall with great floor and outstanding sound system. \n*** \nDie legendäre Freitagsmilonga in der Galeria Ideal Viena\, Wiens älteste\, traditionelle Milonga (seit 2005). \nGroße Tanzlocation mit perfektem Eichenparkett und überragendem Soundsystem\, Heimat von TangoTunes. \n@photocredits Don Xello\, Renate Falkner
URL:https://www.galeria-ideal.at/event/the-friday-milonga-tj-don-xello-5/
LOCATION:Galeria Ideal\, Geibelgasse 14-16\, Vienna\, 1150\, Austria
CATEGORIES:Milonga
ATTACH;FMTTYPE=image/jpeg:https://www.galeria-ideal.at/wp-content/uploads/2019/08/victor-bansky.jpg
ORGANIZER;CN="TITAF":MAILTO:hello@titaf.org
END:VEVENT
END:VCALENDAR