BEGIN:VCALENDAR
VERSION:2.0
PRODID:-//Galeria Ideal – Tango Argentino in Vienna - ECPv6.15.12.2//NONSGML v1.0//EN
CALSCALE:GREGORIAN
METHOD:PUBLISH
X-ORIGINAL-URL:https://www.galeria-ideal.at
X-WR-CALDESC:Events for Galeria Ideal – Tango Argentino in Vienna
REFRESH-INTERVAL;VALUE=DURATION:PT1H
X-Robots-Tag:noindex
X-PUBLISHED-TTL:PT1H
BEGIN:VTIMEZONE
TZID:UTC
BEGIN:STANDARD
TZOFFSETFROM:+0000
TZOFFSETTO:+0000
TZNAME:UTC
DTSTART:20240101T000000
END:STANDARD
END:VTIMEZONE
BEGIN:VEVENT
DTSTART;TZID=UTC:20250228T210000
DTEND;TZID=UTC:20250301T010000
DTSTAMP:20260421T085046
CREATED:20250112T132025Z
LAST-MODIFIED:20250419T144253Z
UID:2624-1740776400-1740790800@www.galeria-ideal.at
SUMMARY:The Friday Milonga – TJ Martin Haslehner
DESCRIPTION:The famous Friday Milonga in Vienna in the infamous Galeria Ideal\, homebase of TangoTunes. \nSpacious dance hall with great floor and outstanding sound system. \n*** \nDie legendäre Freitagsmilonga in der Galeria Ideal Viena\, Wiens älteste\, traditionelle Milonga (seit 2005). \nGroße Tanzlocation mit perfektem Eichenparkett und überragendem Soundsystem\, Heimat von TangoTunes. \n@photocredits Martin Haslehner\, Don Xello
URL:https://www.galeria-ideal.at/event/the-friday-milonga-tj-martin-haslehner/
LOCATION:Galeria Ideal\, Geibelgasse 14-16\, Vienna\, 1150\, Austria
CATEGORIES:Milonga
ATTACH;FMTTYPE=image/jpeg:https://www.galeria-ideal.at/wp-content/uploads/2017/12/martin-dj.jpg
ORGANIZER;CN="TITAF":MAILTO:hello@titaf.org
END:VEVENT
END:VCALENDAR